BEGIN:VCALENDAR
VERSION:2.0
PRODID:-//Tukios.com/
BEGIN:VEVENT
UID:8758ab46-e814-4850-86e3-f8d7507481c1@www.midwestfuneralservices.com
DTSTAMP:20260421T210253Z
DTSTART:20260430T180000Z
DTEND:20260430T190000Z
SUMMARY:Graveside Service
DESCRIPTION:
URL:https://www.midwestfuneralservices.com/obituaries/mary-mclemore
LOCATION: 5201 S Southwood Road  Springfield MO 65804
GEO:37.1183468;-93.2366801
END:VEVENT
END:VCALENDAR