BEGIN:VCALENDAR
VERSION:2.0
PRODID:-//Tukios.com/
BEGIN:VEVENT
UID:5582ec24-d9f4-4063-8cce-fc7b8d0dfc74@www.midwestfuneralservices.com
DTSTAMP:20260421T210125Z
DTSTART:20260430T160000Z
DTEND:20260430T170000Z
SUMMARY:Funeral Service
DESCRIPTION:
URL:https://www.midwestfuneralservices.com/obituaries/mary-mclemore
LOCATION: 3050 North National Avenue  Springfield MO 65803
GEO:37.252613;-93.2733855
END:VEVENT
END:VCALENDAR