BEGIN:VCALENDAR
VERSION:2.0
PRODID:-//Tukios.com/
BEGIN:VEVENT
UID:ec814a8e-06b7-43fe-9373-68d7e6f2fb9b@www.midwestfuneralservices.com
DTSTAMP:20260421T210126Z
DTSTART:20260430T150000Z
DTEND:20260430T170000Z
SUMMARY:Visitation
DESCRIPTION:
URL:https://www.midwestfuneralservices.com/obituaries/mary-mclemore
LOCATION: 3050 North National Avenue  Springfield MO 65803
GEO:37.252613;-93.2733855
END:VEVENT
END:VCALENDAR