BEGIN:VCALENDAR
VERSION:2.0
PRODID:-//Tukios.com/
BEGIN:VEVENT
UID:bc96943f-6219-4a71-8485-e8500be827a7@www.midwestfuneralservices.com
DTSTAMP:20260422T212904Z
DTSTART:20260523
SUMMARY:Celebration of Life
DESCRIPTION:
URL:https://www.midwestfuneralservices.com/obituaries/cecelia-porter
LOCATION: 3075 West Norton Road  Springfield MO 65803
GEO:37.2512515;-93.3368531
END:VEVENT
END:VCALENDAR